BEGIN:VCALENDAR
VERSION:2.0
METHOD:PUBLISH
BEGIN:VEVENT
DTSTAMP:20260425T102829Z
DTSTART:20260403T200000Z
DTEND:20260403T213000Z
SUMMARY:Kid Koala: Satellite Turntable Orchestra
LOCATION:440 Locust Street
END:VEVENT
END:VCALENDAR
