BEGIN:VCALENDAR
VERSION:2.0
METHOD:PUBLISH
BEGIN:VEVENT
DTSTAMP:20260425T123920Z
DTSTART:20260405T170000Z
DTEND:20260405T183000Z
SUMMARY:Kid Koala: Satellite Turntable Orchestra
LOCATION:440 Locust Street
END:VEVENT
END:VCALENDAR
