BEGIN:VCALENDAR
VERSION:2.0
METHOD:PUBLISH
BEGIN:VEVENT
DTSTAMP:20260425T105144Z
DTSTART:20260419T143000Z
DTEND:20260419T163000Z
SUMMARY:Angela Coughlan Monthly Community Events
LOCATION:2425 Upper Middle Rd, Burlington
END:VEVENT
END:VCALENDAR
